BEGIN:VCALENDAR
VERSION:2.0
PRODID:-//wp-events-plugin.com//7.2.3.1//EN
BEGIN:VEVENT
UID:28@educareinstitute.in
DTSTART:20250620T043000Z
DTEND:20250620T090000Z
DTSTAMP:20250622T113404Z
URL:https://educareinstitute.in/events/inauguration/
SUMMARY:Inauguration
DESCRIPTION:
ATTACH;FMTTYPE=image/jpeg:https://educareinstitute.in/wp-content/uploads/2
 025/06/WhatsApp-Image-2025-06-22-at-2.55.22-PM-1-scaled.jpeg
CATEGORIES:Events
END:VEVENT
END:VCALENDAR