BEGIN:VCALENDAR
VERSION:2.0
PRODID:-//wp-events-plugin.com//7.2.3.1//EN
BEGIN:VEVENT
UID:29@educareinstitute.in
DTSTART:20250619T043000Z
DTEND:20250619T053000Z
DTSTAMP:20250622T113646Z
URL:https://educareinstitute.in/events/national-reading-day/
SUMMARY:National Reading Day
DESCRIPTION:
ATTACH;FMTTYPE=image/jpeg:https://educareinstitute.in/wp-content/uploads/2
 025/06/WhatsApp-Image-2025-06-22-at-2.55.22-PM-scaled.jpeg
CATEGORIES:Events
END:VEVENT
END:VCALENDAR