BEGIN:VCALENDAR
VERSION:2.0
PRODID:-//wp-events-plugin.com//7.2.3.1//EN
BEGIN:VEVENT
UID:30@educareinstitute.in
DTSTART:20250605T043000Z
DTEND:20250605T054500Z
DTSTAMP:20250622T113911Z
URL:https://educareinstitute.in/events/world-environment-day/
SUMMARY:World Environment Day
DESCRIPTION:
ATTACH;FMTTYPE=image/jpeg:https://educareinstitute.in/wp-content/uploads/2
 025/06/WhatsApp-Image-2025-06-22-at-2.55.20-PM.jpeg
CATEGORIES:Events
END:VEVENT
END:VCALENDAR